BEGIN:VCALENDAR
VERSION:2.0
PRODID:-//Lig &amp; Luister Concert - ECPv6.15.20//NONSGML v1.0//EN
CALSCALE:GREGORIAN
METHOD:PUBLISH
X-WR-CALNAME:Lig &amp; Luister Concert
X-ORIGINAL-URL:https://www.ligenluisterconcert.nl
X-WR-CALDESC:Evenementen voor Lig &amp; Luister Concert
REFRESH-INTERVAL;VALUE=DURATION:PT1H
X-Robots-Tag:noindex
X-PUBLISHED-TTL:PT1H
BEGIN:VTIMEZONE
TZID:Europe/Amsterdam
BEGIN:DAYLIGHT
TZOFFSETFROM:+0100
TZOFFSETTO:+0200
TZNAME:CEST
DTSTART:20220327T010000
END:DAYLIGHT
BEGIN:STANDARD
TZOFFSETFROM:+0200
TZOFFSETTO:+0100
TZNAME:CET
DTSTART:20221030T010000
END:STANDARD
BEGIN:DAYLIGHT
TZOFFSETFROM:+0100
TZOFFSETTO:+0200
TZNAME:CEST
DTSTART:20230326T010000
END:DAYLIGHT
BEGIN:STANDARD
TZOFFSETFROM:+0200
TZOFFSETTO:+0100
TZNAME:CET
DTSTART:20231029T010000
END:STANDARD
BEGIN:DAYLIGHT
TZOFFSETFROM:+0100
TZOFFSETTO:+0200
TZNAME:CEST
DTSTART:20240331T010000
END:DAYLIGHT
BEGIN:STANDARD
TZOFFSETFROM:+0200
TZOFFSETTO:+0100
TZNAME:CET
DTSTART:20241027T010000
END:STANDARD
BEGIN:DAYLIGHT
TZOFFSETFROM:+0100
TZOFFSETTO:+0200
TZNAME:CEST
DTSTART:20250330T010000
END:DAYLIGHT
BEGIN:STANDARD
TZOFFSETFROM:+0200
TZOFFSETTO:+0100
TZNAME:CET
DTSTART:20251026T010000
END:STANDARD
BEGIN:DAYLIGHT
TZOFFSETFROM:+0100
TZOFFSETTO:+0200
TZNAME:CEST
DTSTART:20260329T010000
END:DAYLIGHT
BEGIN:STANDARD
TZOFFSETFROM:+0200
TZOFFSETTO:+0100
TZNAME:CET
DTSTART:20261025T010000
END:STANDARD
END:VTIMEZONE
BEGIN:VEVENT
DTSTART;TZID=Europe/Amsterdam:20250220T193000
DTEND;TZID=Europe/Amsterdam:20250220T213000
DTSTAMP:20260419T185632
CREATED:20230923T200056Z
LAST-MODIFIED:20250119T101611Z
UID:329-1740079800-1740087000@www.ligenluisterconcert.nl
SUMMARY:Piano & Klank Concert – Van donker naar Licht
DESCRIPTION:TICKETS – KLIK HIER\nPiano & Klank Concert – Van donker naar Licht \n“Een muzikale reis om het licht te verwelkomen” \n Op donderdag 20 februari van 19.30-21.30 nemen Rosanne Navis en Bianca Klijnsma je mee op een magische muzikale reis in de sfeervolle Koppelkerk in Bredevoort. Met het thema Van Donker naar Licht ervaar je hoe muziek en klank je begeleiden van diepe verstilling naar een gevoel van lichtheid en helderheid.  \nDe avond begint met een grondende meditatie om even aan te komen in de ruimte en het lichaam de tijd te geven om te ontspannen. Daarna begint de muzikale reis met wat zwaardere en intense pianomuziek en aardende en diepe klanken van verschillende instrumenten die uitnodigen om naar binnen te keren en te verstillen. Stap voor stap wordt de pianomuziek lichter\, speelser en warmer in combinatie met klanken en verfijnde geluiden van vele verschillende instrumenten die je diep laten ontspannen\, het hart opent en nieuwe energie laten stromen. \nLaat je onderdompelen in deze betoverende reis en ervaar de overgang van donker naar licht\, voel hoe spanning wegvloeit en plaatsmaakt voor zachtheid\, helderheid en rust.  \nMuziek raakt\, opent en verbindt. Rosanne speelt prachtige muzieknummers die het hart openen\, het lichaam laten ontspannen en het hoofd kalmeert. \nDe klanken van Tibetaanse klankschalen\, Kristallen schalen\, gong\, drum\, chimes\, Nada Tharangini\, Kristallen harp en andere instrumenten veroorzaken trillingen en vibraties die diep in het lichaam gevoeld kunnen worden. Blokkades kunnen worden losgetrild\, spanningen lossen op en de energie mag weer vrij stromen. Een Piano en Klank Concert is diep ontspannend\, helend en verlichtend. Stel je open voor deze magische ervaring en ontvang maar… \nErvaar de zachte kracht van muziek en klank op deze reis van verstilling naar lichtheid.  \nDe Koppelkerk is een historische en inspirerende locatie waar kunst\, cultuur en gemeenschap samenkomen in het pittoreske boekenstadje Bredevoort. Overdag doet de kerkzaal dienst als museum voor hoogwaardige exposities\, terwijl deze ’s avonds wordt omgetoverd tot een podium voor diverse concerten en evenementen.  \nPraktische informatie:  \nLocatie: Koppelkerk Bredevoort\, Koppelstraat 35 in Bredevoort \nDatum: Donderdag 20 februari \nTijd: 19-30-21.30 (inloop vanaf 19.00) \nTickets: \nTicket ligplaats €55\,- (early bird ticket t/m 04-02-2025 €49\,-)\nEr ligt een matje voor jou klaar. \nTicket zitplaats €55\,- (early bird ticket t/m 04-02-2025 €49\,-) \nIs het niet mogelijk om te liggen? Dan staat er een fijne stoel voor jou klaar. \nTicket Golden Circle €66\,-\n5 sterren ervaring: dikke matras\, kussen\, deken en oogkussen liggen voor jou klaar. Tijdens het concert ontvangt u een mini nek/schouder massage. Er zijn 12 golden circle tickets beschikbaar! \nMeenemen \n·         Een matje\, dekentje en kussen voor optimaal comfort (alleen nodig bij een regulier ticket. Kies je voor een 5 sterren ervaring\, dan ligt alles voor je klaar! \n·         Warme en comfortabele kleding\, de kerk beschikt over vloerverwarming.
URL:https://www.ligenluisterconcert.nl/event/pianoenklankligconcert/
LOCATION:Koppelkerk – Bredevoort\, Koppelstraat 35\, Bredevoort\, Netherlands
ATTACH;FMTTYPE=image/jpeg:https://www.ligenluisterconcert.nl/wp-content/uploads/2025/01/PHOTO-2024-12-14-09-37-50.jpg
END:VEVENT
BEGIN:VEVENT
DTSTART;TZID=Europe/Amsterdam:20230716T100000
DTEND;TZID=Europe/Amsterdam:20230716T113000
DTSTAMP:20260419T185632
CREATED:20230709T083137Z
LAST-MODIFIED:20230710T194051Z
UID:307-1689501600-1689507000@www.ligenluisterconcert.nl
SUMMARY:Lig en Luisterconcert - Openlucht - Zomereditie
DESCRIPTION:Stel je eens voor…..\nIn de mooie tuin van Yoga boerderij Bullens ligt een matje voor je klaar…. Ga lekker liggen en sluit je ogen. We starten met een korte bodyscan om hoofd en lichaam te ontspannen. Daarna nemen we jou mee op reis\, een muzikale reis waarin een bepaald thema is verwerkt. De prachtige piano muziek neemt jou mee en opent jouw hart. Jij hoeft alleen maar te luisteren… \nOp 16 juli geven wij (Rosanne en Bianca) een openlucht-lig en luisterconcert in de mooie tuin van Yoga Boerderij Bullens. Voor onze concerten gaan wij op zoek naar unieke locaties in Nederland en dit is er 1 van. Buiten in de natuur\, met prachtige oude eiken om je heen\, groen gras onder je\, het zonnetje op je gezicht….af en toe een haas of fazant in de verte…De sfeer en omgeving past precies bij ons Lig en Luisterconcert! \nWat neem je mee?\nEr ligt een yoga matje voor jou klaar\, maar uiteraard mag jij jouw eigen matje meenemen! (luchtbedden of matrassen zijn niet toegestaan). Ook een kussentje en dekentje is fijn om mee te nemen. \nZodra iedereen op zijn of haar matje zit\, gaat het lig en luister concert beginnen. We nodigen je uit om lekker te gaan liggen en starten met een bodyscan om hoofd en lichaam te ontspannen. Vervolgens lig jij heerlijk ontspannen op jouw matje en dan nemen wij jou mee op reis. Een muzikale reis\, waarin een bepaald thema verwerkt is. Dit keer hebben wij als thema de Zomer. Met tekst en muziek nemen we je mee op reis door de zomer. Misschien hoor jij nummers van Ludovico Einaudi\, Yann Tiersen voorbij komen of piano covers. Laat je verrassen\, de prachtige pianomuziek neemt je mee en opent jouw hart. Jij hoeft alleen maar te luisteren. \nEen lig en luister concert is een unieke ervaring. Liggend met gesloten ogen is het veel eenvoudiger om je af te sluiten voor alle prikkels om je heen. Zo komt de muziek veel dieper binnen. De muziek raakt je\, verbindt je met jezelf en het leven. Een lig en luister concert werkt helend en geeft een diepe ontspanning. \nWanneer: zondag 16 juli\nWaar: Tuin Yoga Boerderij Bullens\, Bullenssteeg 8\, Aalten\nAanvang: 10.00 uur\, vanaf 9.45 is de poort geopend.\nMeenemen: matje\, dekentje\, kussentje\, evt. zonnebrandcreme\nDeelname: €35\nGraag tot ziens!\nLiefs Rosanne en Bianca \nTickets klik hier!
URL:https://www.ligenluisterconcert.nl/event/lig-en-luisterconcert-openlucht-zomereditie/
LOCATION:Yoga Boerderij Bullens\, Bullenssteeg\, AALTEN\, Gelderland\, 7122 RE\, Nederland
ATTACH;FMTTYPE=image/jpeg:https://www.ligenluisterconcert.nl/wp-content/uploads/2023/07/achterkant-boerderij-scaled.jpg
END:VEVENT
BEGIN:VEVENT
DTSTART;TZID=Europe/Amsterdam:20230526T203000
DTEND;TZID=Europe/Amsterdam:20230526T220000
DTSTAMP:20260419T185632
CREATED:20230502T085531Z
LAST-MODIFIED:20230508T125801Z
UID:38-1685133000-1685138400@www.ligenluisterconcert.nl
SUMMARY:Concert 26 mei 2023
DESCRIPTION:Lig en luister concert in de Georgiuskerk in Terborg.
URL:https://www.ligenluisterconcert.nl/event/concert-1/
LOCATION:Georgiuskerk Terborg\, Hoofdstraat 73\, Terborg\, Gelderland\, 7061 CH\, Nederland
ATTACH;FMTTYPE=image/jpeg:https://www.ligenluisterconcert.nl/wp-content/uploads/2023/05/cc1628_87f172f9f4594274b97d5fbcab33d958mv2.jpg
END:VEVENT
BEGIN:VEVENT
DTSTART;TZID=Europe/Amsterdam:20230525T203000
DTEND;TZID=Europe/Amsterdam:20230525T220000
DTSTAMP:20260419T185632
CREATED:20230502T094355Z
LAST-MODIFIED:20230508T175956Z
UID:69-1685046600-1685052000@www.ligenluisterconcert.nl
SUMMARY:Concert 25 mei 2023
DESCRIPTION:Lig en luister concert Georgiuskerk in Terborg.
URL:https://www.ligenluisterconcert.nl/event/concert-25-mei-2023/
LOCATION:Georgiuskerk Terborg\, Hoofdstraat 73\, Terborg\, Gelderland\, 7061 CH\, Nederland
ATTACH;FMTTYPE=image/jpeg:https://www.ligenluisterconcert.nl/wp-content/uploads/2023/05/cc1628_87f172f9f4594274b97d5fbcab33d958mv2.jpg
END:VEVENT
END:VCALENDAR